BEGIN:VCALENDAR
VERSION:2.0
PRODID:-//Maison Internationale des Associations - ECPv6.15.11//NONSGML v1.0//EN
CALSCALE:GREGORIAN
METHOD:PUBLISH
X-WR-CALNAME:Maison Internationale des Associations
X-ORIGINAL-URL:https://mia-ge.ch
X-WR-CALDESC:Évènements pour Maison Internationale des Associations
REFRESH-INTERVAL;VALUE=DURATION:PT1H
X-Robots-Tag:noindex
X-PUBLISHED-TTL:PT1H
BEGIN:VTIMEZONE
TZID:Europe/Zurich
BEGIN:DAYLIGHT
TZOFFSETFROM:+0100
TZOFFSETTO:+0200
TZNAME:CEST
DTSTART:20250330T010000
END:DAYLIGHT
BEGIN:STANDARD
TZOFFSETFROM:+0200
TZOFFSETTO:+0100
TZNAME:CET
DTSTART:20251026T010000
END:STANDARD
BEGIN:DAYLIGHT
TZOFFSETFROM:+0100
TZOFFSETTO:+0200
TZNAME:CEST
DTSTART:20260329T010000
END:DAYLIGHT
BEGIN:STANDARD
TZOFFSETFROM:+0200
TZOFFSETTO:+0100
TZNAME:CET
DTSTART:20261025T010000
END:STANDARD
BEGIN:DAYLIGHT
TZOFFSETFROM:+0100
TZOFFSETTO:+0200
TZNAME:CEST
DTSTART:20270328T010000
END:DAYLIGHT
BEGIN:STANDARD
TZOFFSETFROM:+0200
TZOFFSETTO:+0100
TZNAME:CET
DTSTART:20271031T010000
END:STANDARD
END:VTIMEZONE
BEGIN:VEVENT
DTSTART;TZID=Europe/Zurich:20260305T121500
DTEND;TZID=Europe/Zurich:20260305T131500
DTSTAMP:20260421T103034
CREATED:20250909T142909Z
LAST-MODIFIED:20250926T104733Z
UID:10203-1772712900-1772716500@mia-ge.ch
SUMMARY:Comment prendre le procès-verbal de votre réunion\, de votre assemblée générale ?
DESCRIPTION:PV décisionnel\, PV verbatim\, PV seul·e\, PV collectif… Autant de possibilité de prendre un procès-verbal pour votre réunion ou votre Assemblée générale. Exercice souvent peu apprécié\, il est pourtant essentiel pour la bonne gestion de votre association. Cette rencontre vous donnera des astuces pour faire de cet exercice une formalité.
URL:https://mia-ge.ch/event/comment-prendre-le-proces-verbal-de-votre-reunion-de-votre-assemblee-generale-2/
END:VEVENT
END:VCALENDAR