BEGIN:VCALENDAR
VERSION:2.0
PRODID:-//Maison Internationale des Associations - ECPv6.15.11//NONSGML v1.0//EN
CALSCALE:GREGORIAN
METHOD:PUBLISH
X-WR-CALNAME:Maison Internationale des Associations
X-ORIGINAL-URL:https://mia-ge.ch
X-WR-CALDESC:Évènements pour Maison Internationale des Associations
REFRESH-INTERVAL;VALUE=DURATION:PT1H
X-Robots-Tag:noindex
X-PUBLISHED-TTL:PT1H
BEGIN:VTIMEZONE
TZID:Europe/Zurich
BEGIN:DAYLIGHT
TZOFFSETFROM:+0100
TZOFFSETTO:+0200
TZNAME:CEST
DTSTART:20240331T010000
END:DAYLIGHT
BEGIN:STANDARD
TZOFFSETFROM:+0200
TZOFFSETTO:+0100
TZNAME:CET
DTSTART:20241027T010000
END:STANDARD
BEGIN:DAYLIGHT
TZOFFSETFROM:+0100
TZOFFSETTO:+0200
TZNAME:CEST
DTSTART:20250330T010000
END:DAYLIGHT
BEGIN:STANDARD
TZOFFSETFROM:+0200
TZOFFSETTO:+0100
TZNAME:CET
DTSTART:20251026T010000
END:STANDARD
BEGIN:DAYLIGHT
TZOFFSETFROM:+0100
TZOFFSETTO:+0200
TZNAME:CEST
DTSTART:20260329T010000
END:DAYLIGHT
BEGIN:STANDARD
TZOFFSETFROM:+0200
TZOFFSETTO:+0100
TZNAME:CET
DTSTART:20261025T010000
END:STANDARD
END:VTIMEZONE
BEGIN:VEVENT
DTSTART;TZID=Europe/Zurich:20251006T121500
DTEND;TZID=Europe/Zurich:20251006T131500
DTSTAMP:20260421T103203
CREATED:20250909T141008Z
LAST-MODIFIED:20250909T144159Z
UID:10171-1759752900-1759756500@mia-ge.ch
SUMMARY:Conseils en communication pour votre association - site internet ! (06/10)
DESCRIPTION:Vous cherchez des conseils concrets en communication pour développer vos projets ? \nRejoignez-nous pour une session d’échanges et de bonnes pratiques ! \nLundi 6 octobre : Site internet\nComment organiser et gérer son site internet ?
URL:https://mia-ge.ch/event/conseils-en-communication-pour-votre-association-06-10/
CATEGORIES:Rencontre MIA
END:VEVENT
END:VCALENDAR